View In:
ArcGIS JavaScript
ArcGIS Online Map Viewer
ArcGIS Earth
Service Description: opendata_lumiere_pollution_diffuse_indiceMGP
Name: opendata_lumiere_pollution_diffuse_indiceMGP
Description:
Single Fused Map Cache: false
Extent:
XMin: 1.967222007780431
YMin: 48.463658124430076
XMax: 2.8559802719544383
YMax: 49.216488654082745
Spatial Reference: 4326
(4326)
LatestVCSWkid(0)
Initial Extent:
XMin: 1.967222007780431
YMin: 48.463658124430076
XMax: 2.8559802719544383
YMax: 49.216488654082745
Spatial Reference: 4326
(4326)
LatestVCSWkid(0)
Full Extent:
XMin: 1.967222007780431
YMin: 48.463658124430076
XMax: 2.8559802719544383
YMax: 49.216488654082745
Spatial Reference: 4326
(4326)
LatestVCSWkid(0)
Pixel Size X: 5.50314714658828E-4
Pixel Size Y: 5.503147146583842E-4
Band Count: 1
Pixel Type: F32
RasterFunction Infos: {"rasterFunctionInfos": [{
"name": "None",
"description": "",
"help": ""
}]}
Mensuration Capabilities: Basic
Inspection Capabilities:
Has Histograms: true
Has Colormap: false
Has Multi Dimensions : false
Rendering Rule:
Min Scale: 0
Max Scale: 0
Copyright Text:
Service Data Type: esriImageServiceDataTypeGeneric
Min Values: 0.6199989318847656
Max Values: 20042
Mean Values: 309.0998999533604
Standard Deviation Values: 2460.6170769149435
Object ID Field:
Fields:
None
Default Mosaic Method: Center
Allowed Mosaic Methods:
SortField:
SortValue: null
Mosaic Operator: First
Default Compression Quality: 75
Default Resampling Method: Bilinear
Max Record Count: null
Max Image Height: 4100
Max Image Width: 15000
Max Download Image Count: null
Max Mosaic Image Count: null
Allow Raster Function: true
Allow Copy: true
Allow Analysis: true
Allow Compute TiePoints: false
Supports Statistics: false
Supports Advanced Queries: false
Use StandardizedQueries: true
Raster Type Infos:
Name: Raster Dataset
Description: Supports all ArcGIS Raster Datasets
Help:
Has Raster Attribute Table: false
Edit Fields Info: null
Ownership Based AccessControl For Rasters: null
Child Resources:
Info
Histograms
Statistics
Key Properties
Legend
Raster Function Infos
Supported Operations:
Export Image
Identify
Measure
Compute Histograms
Compute Statistics Histograms
Get Samples
Compute Class Statistics
Query Boundary
Compute Pixel Location
Compute Angles
Validate
Project