{
 "currentVersion": 11.3,
 "serviceDescription": "opendata_lumiere_pollution_diffuse_indiceMGP",
 "name": "opendata_lumiere_pollution_diffuse_indiceMGP",
 "description": "",
 "extent": {
  "xmin": 1.967222007780431,
  "ymin": 48.463658124430076,
  "xmax": 2.8559802719544383,
  "ymax": 49.216488654082745,
  "spatialReference": {
   "wkid": 4326,
   "latestWkid": 4326
  }
 },
 "initialExtent": {
  "xmin": 1.967222007780431,
  "ymin": 48.463658124430076,
  "xmax": 2.8559802719544383,
  "ymax": 49.216488654082745,
  "spatialReference": {
   "wkid": 4326,
   "latestWkid": 4326
  }
 },
 "fullExtent": {
  "xmin": 1.967222007780431,
  "ymin": 48.463658124430076,
  "xmax": 2.8559802719544383,
  "ymax": 49.216488654082745,
  "spatialReference": {
   "wkid": 4326,
   "latestWkid": 4326
  }
 },
 "sortableFields": "",
 "bandCount": 1,
 "pixelType": "F32",
 "minValues": [
  0.6199989318847656
 ],
 "maxValues": [
  20042
 ],
 "meanValues": [
  309.0998999533604
 ],
 "stdvValues": [
  2460.6170769149435
 ],
 "hasMultidimensions": false,
 "pixelSizeX": 5.50314714658828E-4,
 "pixelSizeY": 5.503147146583842E-4,
 "meanPixelSize": 61.26075381184167,
 "datasetFormat": "SDR",
 "uncompressedSize": 8837280,
 "blockWidth": 128,
 "blockHeight": 128,
 "compressionType": "LZ77",
 "bandNames": [
  "Band_1"
 ],
 "allowCopy": true,
 "allowAnalysis": true,
 "itemAccess": false,
 "inspectionCapabilities": "",
 "minPixelSize": 0,
 "maxPixelSize": 0,
 "copyrightText": "",
 "serviceDataType": "esriImageServiceDataTypeGeneric",
 "serviceSourceType": "esriImageServiceSourceTypeDataset",
 "objectIdField": "",
 "fields": [],
 "capabilities": "Image,Metadata,Mensuration",
 "defaultMosaicMethod": "Center",
 "allowedMosaicMethods": "",
 "sortField": "",
 "sortValue": null,
 "sortAscending": true,
 "mosaicOperator": "First",
 "defaultCompressionQuality": 75,
 "defaultResamplingMethod": "Bilinear",
 "maxImageHeight": 4100,
 "maxImageWidth": 15000,
 "allowRasterFunction": true,
 "rasterFunctionInfos": [
  {
   "name": "None",
   "description": "",
   "help": ""
  }
 ],
 "rasterTypeInfos": [
  {
   "name": "Raster Dataset",
   "description": "Supports all ArcGIS Raster Datasets",
   "help": ""
  }
 ],
 "mensurationCapabilities": "Basic",
 "hasHistograms": true,
 "hasColormap": false,
 "hasRasterAttributeTable": false,
 "minScale": 0,
 "maxScale": 0,
 "exportTilesAllowed": false,
 "supportsStatistics": false,
 "supportsAdvancedQueries": false,
 "editFieldsInfo": null,
 "ownershipBasedAccessControlForRasters": null,
 "allowComputeTiePoints": false,
 "useStandardizedQueries": true,
 "advancedQueryCapabilities": {
  "useStandardizedQueries": true,
  "supportsStatistics": false,
  "supportsOrderBy": false,
  "supportsDistinct": false,
  "supportsPagination": false
 },
 "spatialReference": {
  "wkid": 4326,
  "latestWkid": 4326
 }
}
