View In:
ArcGIS JavaScript
ArcGIS Online Map Viewer
ArcGIS Earth
Service Description: opendata_lumiere_pollution_diffuse_NSB
Name: opendata_lumiere_pollution_diffuse_NSB
Description:
Single Fused Map Cache: false
Extent:
XMin: 1.950753245718332
YMin: 48.45901182974719
XMax: 2.856820492446829
YMax: 49.221494649398494
Spatial Reference: 4326
(4326)
LatestVCSWkid(0)
Initial Extent:
XMin: 1.950753245718332
YMin: 48.45901182974719
XMax: 2.856820492446829
YMax: 49.221494649398494
Spatial Reference: 4326
(4326)
LatestVCSWkid(0)
Full Extent:
XMin: 1.950753245718332
YMin: 48.45901182974719
XMax: 2.856820492446829
YMax: 49.221494649398494
Spatial Reference: 4326
(4326)
LatestVCSWkid(0)
Pixel Size X: 5.5013190451032E-4
Pixel Size Y: 5.501319045103201E-4
Band Count: 1
Pixel Type: F32
RasterFunction Infos: {"rasterFunctionInfos": [{
"name": "None",
"description": "",
"help": ""
}]}
Mensuration Capabilities: Basic
Inspection Capabilities:
Has Histograms: true
Has Colormap: false
Has Multi Dimensions : false
Rendering Rule:
Min Scale: 0
Max Scale: 0
Copyright Text:
Service Data Type: esriImageServiceDataTypeGeneric
Min Values: 17
Max Values: 21.209999084472656
Mean Values: 19.543967240231808
Standard Deviation Values: 1.4531040214383955
Object ID Field:
Fields:
None
Default Mosaic Method: Center
Allowed Mosaic Methods:
SortField:
SortValue: null
Mosaic Operator: First
Default Compression Quality: 75
Default Resampling Method: Bilinear
Max Record Count: null
Max Image Height: 4100
Max Image Width: 15000
Max Download Image Count: null
Max Mosaic Image Count: null
Allow Raster Function: true
Allow Copy: true
Allow Analysis: true
Allow Compute TiePoints: false
Supports Statistics: false
Supports Advanced Queries: false
Use StandardizedQueries: true
Raster Type Infos:
Name: Raster Dataset
Description: Supports all ArcGIS Raster Datasets
Help:
Has Raster Attribute Table: false
Edit Fields Info: null
Ownership Based AccessControl For Rasters: null
Child Resources:
Info
Histograms
Statistics
Key Properties
Legend
Raster Function Infos
Supported Operations:
Export Image
Identify
Measure
Compute Histograms
Compute Statistics Histograms
Get Samples
Compute Class Statistics
Query Boundary
Compute Pixel Location
Compute Angles
Validate
Project