{
 "currentVersion": 11.3,
 "serviceDescription": "opendata_lumiere_pollution_diffuse_NSB",
 "name": "opendata_lumiere_pollution_diffuse_NSB",
 "description": "",
 "extent": {
  "xmin": 1.950753245718332,
  "ymin": 48.45901182974719,
  "xmax": 2.856820492446829,
  "ymax": 49.221494649398494,
  "spatialReference": {
   "wkid": 4326,
   "latestWkid": 4326
  }
 },
 "initialExtent": {
  "xmin": 1.950753245718332,
  "ymin": 48.45901182974719,
  "xmax": 2.856820492446829,
  "ymax": 49.221494649398494,
  "spatialReference": {
   "wkid": 4326,
   "latestWkid": 4326
  }
 },
 "fullExtent": {
  "xmin": 1.950753245718332,
  "ymin": 48.45901182974719,
  "xmax": 2.856820492446829,
  "ymax": 49.221494649398494,
  "spatialReference": {
   "wkid": 4326,
   "latestWkid": 4326
  }
 },
 "sortableFields": "",
 "bandCount": 1,
 "pixelType": "F32",
 "minValues": [
  17
 ],
 "maxValues": [
  21.209999084472656
 ],
 "meanValues": [
  19.543967240231808
 ],
 "stdvValues": [
  1.4531040214383955
 ],
 "hasMultidimensions": false,
 "pixelSizeX": 5.5013190451032E-4,
 "pixelSizeY": 5.501319045103201E-4,
 "meanPixelSize": 61.24040347922263,
 "datasetFormat": "SDR",
 "uncompressedSize": 9125424,
 "blockWidth": 128,
 "blockHeight": 128,
 "compressionType": "LZ77",
 "bandNames": [
  "Band_1"
 ],
 "allowCopy": true,
 "allowAnalysis": true,
 "itemAccess": false,
 "inspectionCapabilities": "",
 "minPixelSize": 0,
 "maxPixelSize": 0,
 "copyrightText": "",
 "serviceDataType": "esriImageServiceDataTypeGeneric",
 "serviceSourceType": "esriImageServiceSourceTypeDataset",
 "objectIdField": "",
 "fields": [],
 "capabilities": "Image,Metadata,Mensuration",
 "defaultMosaicMethod": "Center",
 "allowedMosaicMethods": "",
 "sortField": "",
 "sortValue": null,
 "sortAscending": true,
 "mosaicOperator": "First",
 "defaultCompressionQuality": 75,
 "defaultResamplingMethod": "Bilinear",
 "maxImageHeight": 4100,
 "maxImageWidth": 15000,
 "allowRasterFunction": true,
 "rasterFunctionInfos": [
  {
   "name": "None",
   "description": "",
   "help": ""
  }
 ],
 "rasterTypeInfos": [
  {
   "name": "Raster Dataset",
   "description": "Supports all ArcGIS Raster Datasets",
   "help": ""
  }
 ],
 "mensurationCapabilities": "Basic",
 "hasHistograms": true,
 "hasColormap": false,
 "hasRasterAttributeTable": false,
 "minScale": 0,
 "maxScale": 0,
 "exportTilesAllowed": false,
 "supportsStatistics": false,
 "supportsAdvancedQueries": false,
 "editFieldsInfo": null,
 "ownershipBasedAccessControlForRasters": null,
 "allowComputeTiePoints": false,
 "useStandardizedQueries": true,
 "advancedQueryCapabilities": {
  "useStandardizedQueries": true,
  "supportsStatistics": false,
  "supportsOrderBy": false,
  "supportsDistinct": false,
  "supportsPagination": false
 },
 "spatialReference": {
  "wkid": 4326,
  "latestWkid": 4326
 }
}
