View In:
ArcGIS JavaScript
ArcGIS Online Map Viewer
ArcGIS Earth
Service Description: opendata_trameNoire_habitatChiroptere_diffLumiere
Name: opendata_trameNoire_habitatChiroptere_diffLumiere
Description:
Single Fused Map Cache: false
Extent:
XMin: 637295.012
YMin: 6838622.3063
XMax: 671750.012
YMax: 6879247.3063
Spatial Reference: 102110
(2154)
Initial Extent:
XMin: 637295.012
YMin: 6838622.3063
XMax: 671750.012
YMax: 6879247.3063
Spatial Reference: 102110
(2154)
Full Extent:
XMin: 637295.012
YMin: 6838622.3063
XMax: 671750.012
YMax: 6879247.3063
Spatial Reference: 102110
(2154)
Pixel Size X: 5.0
Pixel Size Y: 5.0
Band Count: 1
Pixel Type: F64
RasterFunction Infos: {"rasterFunctionInfos": [{
"name": "None",
"description": "",
"help": ""
}]}
Mensuration Capabilities: Basic
Inspection Capabilities:
Has Histograms: true
Has Colormap: false
Has Multi Dimensions : false
Rendering Rule:
Min Scale: 0
Max Scale: 0
Copyright Text:
Service Data Type: esriImageServiceDataTypeGeneric
Min Values: -0.6675971022404233
Max Values: 0.3382254346706367
Mean Values: -0.016488837811708387
Standard Deviation Values: 0.034155746387478016
Object ID Field:
Fields:
None
Default Mosaic Method: Center
Allowed Mosaic Methods:
SortField:
SortValue: null
Mosaic Operator: First
Default Compression Quality: 75
Default Resampling Method: Bilinear
Max Record Count: null
Max Image Height: 4100
Max Image Width: 15000
Max Download Image Count: null
Max Mosaic Image Count: null
Allow Raster Function: true
Allow Copy: true
Allow Analysis: true
Allow Compute TiePoints: false
Supports Statistics: false
Supports Advanced Queries: false
Use StandardizedQueries: true
Raster Type Infos:
Name: Raster Dataset
Description: Supports all ArcGIS Raster Datasets
Help:
Has Raster Attribute Table: false
Edit Fields Info: null
Ownership Based AccessControl For Rasters: null
Child Resources:
Info
Histograms
Statistics
Key Properties
Legend
Raster Function Infos
Supported Operations:
Export Image
Identify
Measure
Compute Histograms
Compute Statistics Histograms
Get Samples
Compute Class Statistics
Query Boundary
Compute Pixel Location
Compute Angles
Validate
Project