View In:
ArcGIS JavaScript
ArcGIS Online Map Viewer
ArcGIS Earth
Service Description: opendata_trameNoire_enjeuxBiodiversite
Name: opendata_trameNoire_enjeuxBiodiversite
Description:
Single Fused Map Cache: false
Extent:
XMin: 623652.0082
YMin: 6818164.1948
XMax: 689505.7402
YMax: 6902357.0113
Spatial Reference: 102110
(2154)
LatestVCSWkid(0)
Initial Extent:
XMin: 623652.0082
YMin: 6818164.1948
XMax: 689505.7402
YMax: 6902357.0113
Spatial Reference: 102110
(2154)
LatestVCSWkid(0)
Full Extent:
XMin: 623652.0082
YMin: 6818164.1948
XMax: 689505.7402
YMax: 6902357.0113
Spatial Reference: 102110
(2154)
LatestVCSWkid(0)
Pixel Size X: 40.85219106699749
Pixel Size Y: 60.87694613159845
Band Count: 1
Pixel Type: F32
RasterFunction Infos: {"rasterFunctionInfos": [{
"name": "None",
"description": "",
"help": ""
}]}
Mensuration Capabilities: Basic
Inspection Capabilities:
Has Histograms: true
Has Colormap: false
Has Multi Dimensions : false
Rendering Rule:
Min Scale: 0
Max Scale: 0
Copyright Text:
Service Data Type: esriImageServiceDataTypeGeneric
Min Values: 1
Max Values: 7
Mean Values: 3.0108995151363507
Standard Deviation Values: 1.427546586232673
Object ID Field:
Fields:
None
Default Mosaic Method: Center
Allowed Mosaic Methods:
SortField:
SortValue: null
Mosaic Operator: First
Default Compression Quality: 75
Default Resampling Method: Bilinear
Max Record Count: null
Max Image Height: 4100
Max Image Width: 15000
Max Download Image Count: null
Max Mosaic Image Count: null
Allow Raster Function: true
Allow Copy: true
Allow Analysis: true
Allow Compute TiePoints: false
Supports Statistics: false
Supports Advanced Queries: false
Use StandardizedQueries: true
Raster Type Infos:
Name: Raster Dataset
Description: Supports all ArcGIS Raster Datasets
Help:
Has Raster Attribute Table: false
Edit Fields Info: null
Ownership Based AccessControl For Rasters: null
Child Resources:
Info
Histograms
Statistics
Key Properties
Legend
Raster Function Infos
Supported Operations:
Export Image
Identify
Measure
Compute Histograms
Compute Statistics Histograms
Get Samples
Compute Class Statistics
Query Boundary
Compute Pixel Location
Compute Angles
Validate
Project