View In:
ArcGIS JavaScript
ArcGIS Online Map Viewer
ArcGIS Earth
Service Description: opendata_lumiere_radiance_totale_5m
Name: opendata_lumiere_radiance_totale_5m
Description:
Single Fused Map Cache: false
Extent:
XMin: 219175.914320957
YMin: 6206717.216023971
XMax: 314755.91432095703
YMax: 6284722.216023971
Spatial Reference: 102100
(3857)
LatestVCSWkid(0)
Initial Extent:
XMin: 219175.914320957
YMin: 6206717.216023971
XMax: 314755.91432095703
YMax: 6284722.216023971
Spatial Reference: 102100
(3857)
LatestVCSWkid(0)
Full Extent:
XMin: 219175.914320957
YMin: 6206717.216023971
XMax: 314755.91432095703
YMax: 6284722.216023971
Spatial Reference: 102100
(3857)
LatestVCSWkid(0)
Pixel Size X: 5.000000000000002
Pixel Size Y: 5.0
Band Count: 1
Pixel Type: U16
RasterFunction Infos: {"rasterFunctionInfos": [{
"name": "None",
"description": "",
"help": ""
}]}
Mensuration Capabilities: Basic
Inspection Capabilities:
Has Histograms: true
Has Colormap: false
Has Multi Dimensions : false
Rendering Rule:
Min Scale: 0
Max Scale: 0
Copyright Text:
Service Data Type: esriImageServiceDataTypeGeneric
Min Values: 1
Max Values: 1341
Mean Values: 2.8804008102261167
Standard Deviation Values: 6.49341363776547
Object ID Field:
Fields:
None
Default Mosaic Method: Center
Allowed Mosaic Methods:
SortField:
SortValue: null
Mosaic Operator: First
Default Compression Quality: 75
Default Resampling Method: Nearest
Max Record Count: null
Max Image Height: 4100
Max Image Width: 15000
Max Download Image Count: null
Max Mosaic Image Count: null
Allow Raster Function: true
Allow Copy: true
Allow Analysis: true
Allow Compute TiePoints: false
Supports Statistics: false
Supports Advanced Queries: false
Use StandardizedQueries: true
Raster Type Infos:
Name: Raster Dataset
Description: Supports all ArcGIS Raster Datasets
Help:
Has Raster Attribute Table: false
Edit Fields Info: null
Ownership Based AccessControl For Rasters: null
Child Resources:
Info
Histograms
Statistics
Key Properties
Legend
Raster Function Infos
Supported Operations:
Export Image
Identify
Measure
Compute Histograms
Compute Statistics Histograms
Get Samples
Compute Class Statistics
Query Boundary
Compute Pixel Location
Compute Angles
Validate
Project