View In:
ArcGIS JavaScript
ArcGIS Online Map Viewer
ArcGIS Earth
Service Description: opendata_SCOT_RASTER_Transport
Name: opendata_SCOT_RASTER_Transport
Description:
Single Fused Map Cache: false
Extent:
XMin: 224725.81001874187
YMin: 6208335.331437141
XMax: 331198.50346510956
YMax: 6284918.641742785
Spatial Reference: 102100
(3857)
LatestVCSWkid(0)
Initial Extent:
XMin: 224725.81001874187
YMin: 6208335.331437141
XMax: 331198.50346510956
YMax: 6284918.641742785
Spatial Reference: 102100
(3857)
LatestVCSWkid(0)
Full Extent:
XMin: 224725.81001874187
YMin: 6208335.331437141
XMax: 331198.50346510956
YMax: 6284918.641742785
Spatial Reference: 102100
(3857)
LatestVCSWkid(0)
Pixel Size X: 3.298104062397165
Pixel Size Y: 3.326238286381374
Band Count: 4
Pixel Type: U8
RasterFunction Infos: {"rasterFunctionInfos": [{
"name": "None",
"description": "",
"help": ""
}]}
Mensuration Capabilities: Basic
Inspection Capabilities:
Has Histograms: true
Has Colormap: false
Has Multi Dimensions : false
Rendering Rule:
Min Scale: 0
Max Scale: 0
Copyright Text:
Service Data Type: esriImageServiceDataTypeGeneric
Min Values: 0, 0, 0, 0
Max Values: 255, 255, 255, 255
Mean Values: 216.38794288413598, 215.81599768221503, 216.39042125559135, 220.42262316040117
Standard Deviation Values: 74.10937318772888, 75.23401309854536, 74.84743025280356, 74.46446364700063
Object ID Field:
Fields:
None
Default Mosaic Method: Center
Allowed Mosaic Methods:
SortField:
SortValue: null
Mosaic Operator: First
Default Compression Quality: 75
Default Resampling Method: Bilinear
Max Record Count: null
Max Image Height: 4100
Max Image Width: 15000
Max Download Image Count: null
Max Mosaic Image Count: null
Allow Raster Function: true
Allow Copy: true
Allow Analysis: true
Allow Compute TiePoints: false
Supports Statistics: false
Supports Advanced Queries: false
Use StandardizedQueries: true
Raster Type Infos:
Name: Raster Dataset
Description: Supports all ArcGIS Raster Datasets
Help:
Has Raster Attribute Table: false
Edit Fields Info: null
Ownership Based AccessControl For Rasters: null
Child Resources:
Info
Histograms
Statistics
Key Properties
Legend
Raster Function Infos
Supported Operations:
Export Image
Identify
Measure
Compute Histograms
Compute Statistics Histograms
Get Samples
Compute Class Statistics
Query Boundary
Compute Pixel Location
Compute Angles
Validate
Project