View In:
ArcGIS JavaScript
ArcGIS Online Map Viewer
ArcGIS Earth
Service Description: opendata_SCOT_RASTER_TVB
Name: opendata_SCOT_RASTER_TVB
Description:
Single Fused Map Cache: false
Extent:
XMin: 225259.13728565455
YMin: 6208668.668075699
XMax: 331064.7854900404
YMax: 6284619.201259974
Spatial Reference: 102100
(3857)
Initial Extent:
XMin: 225259.13728565455
YMin: 6208668.668075699
XMax: 331064.7854900404
YMax: 6284619.201259974
Spatial Reference: 102100
(3857)
Full Extent:
XMin: 225259.13728565455
YMin: 6208668.668075699
XMax: 331064.7854900404
YMax: 6284619.201259974
Spatial Reference: 102100
(3857)
Pixel Size X: 3.27744163195446
Pixel Size Y: 3.2987549159257745
Band Count: 4
Pixel Type: U8
RasterFunction Infos: {"rasterFunctionInfos": [{
"name": "None",
"description": "",
"help": ""
}]}
Mensuration Capabilities: Basic
Inspection Capabilities:
Has Histograms: true
Has Colormap: false
Has Multi Dimensions : false
Rendering Rule:
Min Scale: 0
Max Scale: 0
Copyright Text:
Service Data Type: esriImageServiceDataTypeGeneric
Min Values: 0, 0, 0, 0
Max Values: 255, 255, 255, 255
Mean Values: 195.21697287057216, 201.55388507987269, 196.9485060931702, 206.54353107096946
Standard Deviation Values: 77.57345054109079, 74.33483713642256, 74.00827169116148, 74.44068061784533
Object ID Field:
Fields:
None
Default Mosaic Method: Center
Allowed Mosaic Methods:
SortField:
SortValue: null
Mosaic Operator: First
Default Compression Quality: 75
Default Resampling Method: Bilinear
Max Record Count: null
Max Image Height: 4100
Max Image Width: 15000
Max Download Image Count: null
Max Mosaic Image Count: null
Allow Raster Function: true
Allow Copy: true
Allow Analysis: true
Allow Compute TiePoints: false
Supports Statistics: false
Supports Advanced Queries: false
Use StandardizedQueries: true
Raster Type Infos:
Name: Raster Dataset
Description: Supports all ArcGIS Raster Datasets
Help:
Has Raster Attribute Table: false
Edit Fields Info: null
Ownership Based AccessControl For Rasters: null
Child Resources:
Info
Histograms
Statistics
Key Properties
Legend
Raster Function Infos
Supported Operations:
Export Image
Identify
Measure
Compute Histograms
Compute Statistics Histograms
Get Samples
Compute Class Statistics
Query Boundary
Compute Pixel Location
Compute Angles
Validate
Project