View In:
ArcGIS JavaScript
ArcGIS Online Map Viewer
ArcGIS Earth
Service Description: opendata_SCOT_RASTER_Risque
Name: opendata_SCOT_RASTER_Risque
Description:
Single Fused Map Cache: false
Extent:
XMin: 224853.23619190528
YMin: 6208334.72502841
XMax: 331543.09771182097
YMax: 6285106.57430476
Spatial Reference: 102100
(3857)
Initial Extent:
XMin: 224853.23619190528
YMin: 6208334.72502841
XMax: 331543.09771182097
YMax: 6285106.57430476
Spatial Reference: 102100
(3857)
Full Extent:
XMin: 224853.23619190528
YMin: 6208334.72502841
XMax: 331543.09771182097
YMax: 6285106.57430476
Spatial Reference: 102100
(3857)
Pixel Size X: 3.3048310726981907
Pixel Size Y: 3.334427088097238
Band Count: 4
Pixel Type: U8
RasterFunction Infos: {"rasterFunctionInfos": [{
"name": "None",
"description": "",
"help": ""
}]}
Mensuration Capabilities: Basic
Inspection Capabilities:
Has Histograms: true
Has Colormap: false
Has Multi Dimensions : false
Rendering Rule:
Min Scale: 0
Max Scale: 0
Copyright Text:
Service Data Type: esriImageServiceDataTypeGeneric
Min Values: 0, 0, 0, 0
Max Values: 255, 255, 255, 255
Mean Values: 190.9232525495457, 192.51744885888755, 190.91006358174428, 201.36697459999235
Standard Deviation Values: 75.22641955708777, 73.43529827625457, 72.5579929428129, 74.64482043701616
Object ID Field:
Fields:
None
Default Mosaic Method: Center
Allowed Mosaic Methods:
SortField:
SortValue: null
Mosaic Operator: First
Default Compression Quality: 75
Default Resampling Method: Bilinear
Max Record Count: null
Max Image Height: 4100
Max Image Width: 15000
Max Download Image Count: null
Max Mosaic Image Count: null
Allow Raster Function: true
Allow Copy: true
Allow Analysis: true
Allow Compute TiePoints: false
Supports Statistics: false
Supports Advanced Queries: false
Use StandardizedQueries: true
Raster Type Infos:
Name: Raster Dataset
Description: Supports all ArcGIS Raster Datasets
Help:
Has Raster Attribute Table: false
Edit Fields Info: null
Ownership Based AccessControl For Rasters: null
Child Resources:
Info
Histograms
Statistics
Key Properties
Legend
Raster Function Infos
Supported Operations:
Export Image
Identify
Measure
Compute Histograms
Compute Statistics Histograms
Get Samples
Compute Class Statistics
Query Boundary
Compute Pixel Location
Compute Angles
Validate
Project