View In:
ArcGIS JavaScript
ArcGIS Online Map Viewer
ArcGIS Earth
Service Description: opendata_SCOT_RASTER_Paysage
Name: opendata_SCOT_RASTER_Paysage
Description:
Single Fused Map Cache: false
Extent:
XMin: 224875.5131697004
YMin: 6208405.774907621
XMax: 331362.24130376754
YMax: 6284926.183217522
Spatial Reference: 102100
(3857)
LatestVCSWkid(0)
Initial Extent:
XMin: 224875.5131697004
YMin: 6208405.774907621
XMax: 331362.24130376754
YMax: 6284926.183217522
Spatial Reference: 102100
(3857)
LatestVCSWkid(0)
Full Extent:
XMin: 224875.5131697004
YMin: 6208405.774907621
XMax: 331362.24130376754
YMax: 6284926.183217522
Spatial Reference: 102100
(3857)
LatestVCSWkid(0)
Pixel Size X: 3.2985388016623967
Pixel Size Y: 3.3235062678032112
Band Count: 4
Pixel Type: U8
RasterFunction Infos: {"rasterFunctionInfos": [{
"name": "None",
"description": "",
"help": ""
}]}
Mensuration Capabilities: Basic
Inspection Capabilities:
Has Histograms: true
Has Colormap: false
Has Multi Dimensions : false
Rendering Rule:
Min Scale: 0
Max Scale: 0
Copyright Text:
Service Data Type: esriImageServiceDataTypeGeneric
Min Values: 0, 0, 0, 0
Max Values: 255, 255, 255, 255
Mean Values: 171.44685060749987, 174.6456113817695, 168.9719394356622, 184.91338149043077
Standard Deviation Values: 76.5635505100201, 74.27181184464374, 73.18893613073044, 77.94334803229098
Object ID Field:
Fields:
None
Default Mosaic Method: Center
Allowed Mosaic Methods:
SortField:
SortValue: null
Mosaic Operator: First
Default Compression Quality: 75
Default Resampling Method: Bilinear
Max Record Count: null
Max Image Height: 4100
Max Image Width: 15000
Max Download Image Count: null
Max Mosaic Image Count: null
Allow Raster Function: true
Allow Copy: true
Allow Analysis: true
Allow Compute TiePoints: false
Supports Statistics: false
Supports Advanced Queries: false
Use StandardizedQueries: true
Raster Type Infos:
Name: Raster Dataset
Description: Supports all ArcGIS Raster Datasets
Help:
Has Raster Attribute Table: false
Edit Fields Info: null
Ownership Based AccessControl For Rasters: null
Child Resources:
Info
Histograms
Statistics
Key Properties
Legend
Raster Function Infos
Supported Operations:
Export Image
Identify
Measure
Compute Histograms
Compute Statistics Histograms
Get Samples
Compute Class Statistics
Query Boundary
Compute Pixel Location
Compute Angles
Validate
Project