View In:
ArcGIS JavaScript
ArcGIS Online Map Viewer
ArcGIS Earth
Service Description: opendata_SCOT_RASTER_Energie
Name: opendata_SCOT_RASTER_Energie
Description:
Single Fused Map Cache: false
Extent:
XMin: 224841.58426538776
YMin: 6208397.88134339
XMax: 331533.88985149073
YMax: 6284961.792575343
Spatial Reference: 102100
(3857)
LatestVCSWkid(0)
Initial Extent:
XMin: 224841.58426538776
YMin: 6208397.88134339
XMax: 331533.88985149073
YMax: 6284961.792575343
Spatial Reference: 102100
(3857)
LatestVCSWkid(0)
Full Extent:
XMin: 224841.58426538776
YMin: 6208397.88134339
XMax: 331533.88985149073
YMax: 6284961.792575343
Spatial Reference: 102100
(3857)
LatestVCSWkid(0)
Pixel Size X: 3.304906780228076
Pixel Size Y: 3.3253957275865496
Band Count: 4
Pixel Type: U8
RasterFunction Infos: {"rasterFunctionInfos": [{
"name": "None",
"description": "",
"help": ""
}]}
Mensuration Capabilities: Basic
Inspection Capabilities:
Has Histograms: true
Has Colormap: false
Has Multi Dimensions : false
Rendering Rule:
Min Scale: 0
Max Scale: 0
Copyright Text:
Service Data Type: esriImageServiceDataTypeGeneric
Min Values: 0, 0, 0, 0
Max Values: 255, 255, 255, 255
Mean Values: 204.635943503797, 209.19878894655085, 208.3114350460638, 214.418003198232
Standard Deviation Values: 79.22216153627747, 77.41593271465368, 76.11801570741106, 75.84620134934913
Object ID Field:
Fields:
None
Default Mosaic Method: Center
Allowed Mosaic Methods:
SortField:
SortValue: null
Mosaic Operator: First
Default Compression Quality: 75
Default Resampling Method: Bilinear
Max Record Count: null
Max Image Height: 4100
Max Image Width: 15000
Max Download Image Count: null
Max Mosaic Image Count: null
Allow Raster Function: true
Allow Copy: true
Allow Analysis: true
Allow Compute TiePoints: false
Supports Statistics: false
Supports Advanced Queries: false
Use StandardizedQueries: true
Raster Type Infos:
Name: Raster Dataset
Description: Supports all ArcGIS Raster Datasets
Help:
Has Raster Attribute Table: false
Edit Fields Info: null
Ownership Based AccessControl For Rasters: null
Child Resources:
Info
Histograms
Statistics
Key Properties
Legend
Raster Function Infos
Supported Operations:
Export Image
Identify
Measure
Compute Histograms
Compute Statistics Histograms
Get Samples
Compute Class Statistics
Query Boundary
Compute Pixel Location
Compute Angles
Validate
Project